BEGIN:VCALENDAR
VERSION:2.0
CALSCALE:GREGORIAN
METHOD:PUBLISH
PRODID:-//iNordkapp//Event ICS//NO
BEGIN:VEVENT
UID:10937-10952@inordkapp.no
DTSTAMP:20260423T103757Z
DTSTART:20260421T170000Z
DTEND:20260421T200000Z
SUMMARY:Klubbkveld med Nordkapp Dartklubb
DESCRIPTION:Klubbkveld med Nordkapp Dartklubb i Nordvågen
LOCATION:Hovedveien 50\, Nordvågen\, Nordvågen\, Nordkapp\, Norway
URL:https://inordkapp.no/aktiviteter/klubbkveld-med-nordkapp-dartklubb/?c
 hild=10952
END:VEVENT
END:VCALENDAR
