BEGIN:VCALENDAR
VERSION:2.0
CALSCALE:GREGORIAN
METHOD:PUBLISH
PRODID:-//iNordkapp//Event ICS//NO
BEGIN:VEVENT
UID:4382-4389@inordkapp.no
DTSTAMP:20260423T085829Z
DTSTART:20250527T150000Z
DTEND:20250527T160000Z
SUMMARY:Folkebad
DESCRIPTION:Folkebad i Honningsvåg
LOCATION:Honningsvåg svømmehall \, Honningsvåg\, Nordkapp\, Norway
URL:https://inordkapp.no/aktiviteter/folkebad/?child=4389
END:VEVENT
END:VCALENDAR
