BEGIN:VCALENDAR
VERSION:2.0
CALSCALE:GREGORIAN
METHOD:PUBLISH
PRODID:-//iNordkapp//Event ICS//NO
BEGIN:VEVENT
UID:11293@inordkapp.no
DTSTAMP:20260422T085528Z
DTSTART:20260511T153000Z
DTEND:20260511T180000Z
SUMMARY:Åpningstider Nordkapp Juniorklubb
DESCRIPTION:Åpningstider Nordkapp Juniorklubb i Honningsvåg
LOCATION:Turngata 2\, Honningsvåg\, Nordkapp\, Norway
URL:https://inordkapp.no/aktiviteter/apningstider-nordkapp-juniorklubb-12
 /
END:VEVENT
END:VCALENDAR
