BEGIN:VCALENDAR
VERSION:2.0
CALSCALE:GREGORIAN
METHOD:PUBLISH
PRODID:-//iNordkapp//Event ICS//NO
BEGIN:VEVENT
UID:11362@inordkapp.no
DTSTAMP:20260420T103807Z
DTSTART:20260217T165000Z
DTEND:20260217T175000Z
SUMMARY:Fotballtrening⚽️
DESCRIPTION:Fotballtrening⚽️
URL:https://inordkapp.no/aktiviteter/fotballtrening%e2%9a%bd%ef%b8%8f/
END:VEVENT
END:VCALENDAR
