BEGIN:VCALENDAR
VERSION:2.0
CALSCALE:GREGORIAN
METHOD:PUBLISH
PRODID:-//iNordkapp//Event ICS//NO
BEGIN:VEVENT
UID:11404@inordkapp.no
DTSTAMP:20260421T095737Z
DTSTART:20260302T160000Z
DTEND:20260302T170000Z
SUMMARY:Fotballtrening &#8211\; Knott
DESCRIPTION:Denne gruppen vil bli brukt til å sende invitasjoner til arr
 angementer\, holde orden på oppmøte\, dele nyttig informasjon og nyhete
 r.
URL:https://inordkapp.no/aktiviteter/fotballtrening-knott-2/
END:VEVENT
END:VCALENDAR
