BEGIN:VCALENDAR
VERSION:2.0
CALSCALE:GREGORIAN
METHOD:PUBLISH
PRODID:-//iNordkapp//Event ICS//NO
BEGIN:VEVENT
UID:11406@inordkapp.no
DTSTAMP:20260423T085051Z
DTSTART:20260302T165000Z
DTEND:20260302T175000Z
SUMMARY:Fotballtrening flerbrukshallen
DESCRIPTION:Denne gruppen vil bli brukt til å sende invitasjoner til arr
 angementer\, holde orden på oppmøte\, dele nyttig informasjon og nyhete
 r.
URL:https://inordkapp.no/aktiviteter/fotballtrening-flerbrukshallen-2/
END:VEVENT
END:VCALENDAR
