BEGIN:VCALENDAR
VERSION:2.0
CALSCALE:GREGORIAN
METHOD:PUBLISH
PRODID:-//iNordkapp//Event ICS//NO
BEGIN:VEVENT
UID:11488@inordkapp.no
DTSTAMP:20260422T085707Z
DTSTART:20260326T180000Z
DTEND:20260326T190000Z
SUMMARY:Trening
DESCRIPTION:Trening
URL:https://inordkapp.no/aktiviteter/trening-18/
END:VEVENT
END:VCALENDAR
