BEGIN:VCALENDAR
VERSION:2.0
CALSCALE:GREGORIAN
METHOD:PUBLISH
PRODID:-//iNordkapp//Event ICS//NO
BEGIN:VEVENT
UID:11534@inordkapp.no
DTSTAMP:20260422T085905Z
DTSTART:20260416T174000Z
DTEND:20260416T184000Z
SUMMARY:Håndballtrening J16
DESCRIPTION:Denne gruppen vil bli brukt til å sende invitasjoner til arr
 angementer\, holde orden på oppmøte\, dele nyttig informasjon og nyhete
 r. Bruker denne istedenfor FB
URL:https://inordkapp.no/aktiviteter/handballtrening-j16-9/
END:VEVENT
END:VCALENDAR
