BEGIN:VCALENDAR
VERSION:2.0
CALSCALE:GREGORIAN
METHOD:PUBLISH
PRODID:-//iNordkapp//Event ICS//NO
BEGIN:VEVENT
UID:11561@inordkapp.no
DTSTAMP:20260422T102630Z
DTSTART:20260427T124000Z
DTEND:20260427T134000Z
SUMMARY:Saltotrening 5.klasse og oppover
DESCRIPTION:Saltotrening 5.klasse og oppover
LOCATION:Idrettshallen\, Menesgata\, Honningsvåg\, Nordkapp\, Norway
URL:https://inordkapp.no/aktiviteter/saltotrening-5-klasse-og-oppover-10/
 
END:VEVENT
END:VCALENDAR
