BEGIN:VCALENDAR
VERSION:2.0
CALSCALE:GREGORIAN
METHOD:PUBLISH
PRODID:-//iNordkapp//Event ICS//NO
BEGIN:VEVENT
UID:11584@inordkapp.no
DTSTAMP:20260422T085732Z
DTSTART:20260505T155500Z
DTEND:20260505T165500Z
SUMMARY:Trening
DESCRIPTION:Trening
LOCATION:Idrettshallen\, Menesgata\, Honningsvåg\, Nordkapp\, Norway
URL:https://inordkapp.no/aktiviteter/trening-35/
END:VEVENT
END:VCALENDAR
