BEGIN:VCALENDAR
VERSION:2.0
CALSCALE:GREGORIAN
METHOD:PUBLISH
PRODID:-//iNordkapp//Event ICS//NO
BEGIN:VEVENT
UID:11605@inordkapp.no
DTSTAMP:20260423T101051Z
DTSTART:20260513T150000Z
DTEND:20260513T160000Z
SUMMARY:Nøstene
DESCRIPTION:Denne gruppen vil bli brukt til å sende invitasjoner til arr
 angementer\, holde orden på oppmøte\, dele nyttig informasjon og nyhete
 r.
LOCATION:Idrettshallen\, Menesgata\, Honningsvåg\, Nordkapp\, Norway
URL:https://inordkapp.no/aktiviteter/nostene-12/
END:VEVENT
END:VCALENDAR
