BEGIN:VCALENDAR
VERSION:2.0
CALSCALE:GREGORIAN
METHOD:PUBLISH
PRODID:-//iNordkapp//Event ICS//NO
BEGIN:VEVENT
UID:11630@inordkapp.no
DTSTAMP:20260420T102544Z
DTSTART:20260526T145000Z
DTEND:20260526T155000Z
SUMMARY:Trening
DESCRIPTION:Trening
URL:https://inordkapp.no/aktiviteter/trening-43/
END:VEVENT
END:VCALENDAR
