BEGIN:VCALENDAR
VERSION:2.0
CALSCALE:GREGORIAN
METHOD:PUBLISH
PRODID:-//iNordkapp//Event ICS//NO
BEGIN:VEVENT
UID:11638@inordkapp.no
DTSTAMP:20260420T103552Z
DTSTART:20260528T140000Z
DTEND:20260528T150000Z
SUMMARY:KTS26
DESCRIPTION:KTS26
LOCATION:Idrettshallen\, Menesgata\, Honningsvåg\, Nordkapp\, Norway
URL:https://inordkapp.no/aktiviteter/kts26/
END:VEVENT
END:VCALENDAR
