BEGIN:VCALENDAR
VERSION:2.0
CALSCALE:GREGORIAN
METHOD:PUBLISH
PRODID:-//iNordkapp//Event ICS//NO
BEGIN:VEVENT
UID:11663@inordkapp.no
DTSTAMP:20260420T085551Z
DTSTART:20260609T165000Z
DTEND:20260609T175000Z
SUMMARY:Fotballtrening⚽️
DESCRIPTION:Fotballtrening⚽️
URL:https://inordkapp.no/aktiviteter/fotballtrening%e2%9a%bd%ef%b8%8f-33/
 
END:VEVENT
END:VCALENDAR
