BEGIN:VCALENDAR
VERSION:2.0
CALSCALE:GREGORIAN
METHOD:PUBLISH
PRODID:-//iNordkapp//Event ICS//NO
BEGIN:VEVENT
UID:11688@inordkapp.no
DTSTAMP:20260420T090030Z
DTSTART:20260623T155500Z
DTEND:20260623T165500Z
SUMMARY:Trening
DESCRIPTION:Trening
LOCATION:Idrettshallen\, Menesgata\, Honningsvåg\, Nordkapp\, Norway
URL:https://inordkapp.no/aktiviteter/trening-56/
END:VEVENT
END:VCALENDAR
