BEGIN:VCALENDAR
VERSION:2.0
CALSCALE:GREGORIAN
METHOD:PUBLISH
PRODID:-//iNordkapp//Event ICS//NO
BEGIN:VEVENT
UID:11740@inordkapp.no
DTSTAMP:20260423T113734Z
DTSTART:20260721T155500Z
DTEND:20260721T165500Z
SUMMARY:Trening
DESCRIPTION:Trening
LOCATION:Idrettshallen\, Menesgata\, Honningsvåg\, Nordkapp\, Norway
URL:https://inordkapp.no/aktiviteter/trening-68/
END:VEVENT
END:VCALENDAR
