BEGIN:VCALENDAR
VERSION:2.0
CALSCALE:GREGORIAN
METHOD:PUBLISH
PRODID:-//iNordkapp//Event ICS//NO
BEGIN:VEVENT
UID:11741@inordkapp.no
DTSTAMP:20260421T083730Z
DTSTART:20260721T165000Z
DTEND:20260721T175000Z
SUMMARY:Fotballtrening⚽️
DESCRIPTION:Fotballtrening⚽️
URL:https://inordkapp.no/aktiviteter/fotballtrening%e2%9a%bd%ef%b8%8f-45/
 
END:VEVENT
END:VCALENDAR
