BEGIN:VCALENDAR
VERSION:2.0
CALSCALE:GREGORIAN
METHOD:PUBLISH
PRODID:-//iNordkapp//Event ICS//NO
BEGIN:VEVENT
UID:11749@inordkapp.no
DTSTAMP:20260422T085829Z
DTSTART:20260727T151500Z
DTEND:20260727T161500Z
SUMMARY:GYMLEK
DESCRIPTION:GYMLEK
LOCATION:Idrettshallen\, Menesgata\, Honningsvåg\, Nordkapp\, Norway
URL:https://inordkapp.no/aktiviteter/gymlek-23/
END:VEVENT
END:VCALENDAR
