BEGIN:VCALENDAR
VERSION:2.0
CALSCALE:GREGORIAN
METHOD:PUBLISH
PRODID:-//iNordkapp//Event ICS//NO
BEGIN:VEVENT
UID:12270@inordkapp.no
DTSTAMP:20260420T090052Z
DTSTART:20260511T172000Z
DTEND:20260511T182000Z
SUMMARY:A-lag
DESCRIPTION:Denne gruppen vil bli brukt til å sende invitasjoner til arr
 angementer\, holde orden på oppmøte\, dele nyttig informasjon og nyhete
 r.
LOCATION:Nordkapp Flerbrukshall\, Honningsvåg\, Nordkapp\, Norway
URL:https://inordkapp.no/aktiviteter/a-lag-34/
END:VEVENT
END:VCALENDAR
