BEGIN:VCALENDAR
VERSION:2.0
CALSCALE:GREGORIAN
METHOD:PUBLISH
PRODID:-//iNordkapp//Event ICS//NO
BEGIN:VEVENT
UID:12430@inordkapp.no
DTSTAMP:20260422T085824Z
DTSTART:20260305T165500Z
DTEND:20260305T175500Z
SUMMARY:Step med styrke
DESCRIPTION:Denne gruppen vil bli brukt til å sende invitasjoner til arr
 angementer\, holde orden på oppmøte\, dele nyttig informasjon og nyhete
 r.
LOCATION:Aktivitetshall I Flerbrukshallen\, Nordkapp\, Norway
URL:https://inordkapp.no/aktiviteter/step-med-styrke/
END:VEVENT
END:VCALENDAR
