BEGIN:VCALENDAR
VERSION:2.0
CALSCALE:GREGORIAN
METHOD:PUBLISH
PRODID:-//iNordkapp//Event ICS//NO
BEGIN:VEVENT
UID:12955@inordkapp.no
DTSTAMP:20260423T102130Z
DTSTART:20260417T193000Z
DTEND:20260417T203000Z
SUMMARY:Det blir musikkbingo på fredag
DESCRIPTION:Det blir musikkbingo på fredag i Honningsvåg
LOCATION:Nøden Pub\, Honningsvåg\, Nordkapp\, Norway
URL:https://inordkapp.no/aktiviteter/det-blir-musikkbingo-pa-fredag/
END:VEVENT
END:VCALENDAR
