BEGIN:VCALENDAR
VERSION:2.0
CALSCALE:GREGORIAN
METHOD:PUBLISH
PRODID:-//iNordkapp//Event ICS//NO
BEGIN:VEVENT
UID:2641@inordkapp.no
DTSTAMP:20260420T183525Z
DTSTART:20241216T170000Z
DTEND:20241216T180000Z
SUMMARY:Barne og ungdomsklubb
DESCRIPTION:Barne og ungdomsklubb i Honningsvåg
LOCATION:Klubben på Turn\, Honningsvåg\, Nordkapp\, Norway
URL:https://inordkapp.no/aktiviteter/barne-og-ungdomsklubb-25/
END:VEVENT
END:VCALENDAR
