BEGIN:VCALENDAR
VERSION:2.0
CALSCALE:GREGORIAN
METHOD:PUBLISH
PRODID:-//iNordkapp//Event ICS//NO
BEGIN:VEVENT
UID:3605@inordkapp.no
DTSTAMP:20260421T101703Z
DTSTART:20241126T150000Z
DTEND:20241126T160000Z
SUMMARY:Familiemiddag
DESCRIPTION:Familiemiddag i Honningsvåg
LOCATION:Menighetshuset\, Menesgata 1\, Honningsvåg\, Nordkapp\, Norway
URL:https://inordkapp.no/aktiviteter/familiemiddag/
END:VEVENT
END:VCALENDAR
